BEGIN:VCALENDAR
VERSION:2.0
PRODID:-//Plone.org//NONSGML plone.app.event//EN
X-WR-TIMEZONE:America/New_York
BEGIN:VEVENT
SUMMARY:Vica Mars' Memorial
DTSTART;TZID=America/New_York:20251003T160000
DTEND;TZID=America/New_York:20251003T190000
DTSTAMP:20260419T093707Z
UID:002fa5c73b4c4b67b72ede8c27f5d586@172.16.140.7:8080
CATEGORIES:ds
CREATED:20250219T214626Z
DESCRIPTION:Please save the date for an on-campus Memorial Celebration for
  Vica Mars.  Vica\, a graduate of the York class 2010\, worked as the Conf
 idential Executive Assistant to the Vice President for Student Development
  until she joined the Office of Academic Affairs in late 2020.
LAST-MODIFIED:20250925T191945Z
LOCATION:AC-2D01
URL:https://www.york.cuny.edu/ia/vica-mars-memorial
END:VEVENT
BEGIN:VTIMEZONE
TZID:America/New_York
X-LIC-LOCATION:America/New_York
BEGIN:DAYLIGHT
DTSTART:20250309T030000
TZNAME:EDT
TZOFFSETFROM:-0500
TZOFFSETTO:-0400
END:DAYLIGHT
END:VTIMEZONE
END:VCALENDAR
