BEGIN:VCALENDAR
VERSION:2.0
PRODID:-//Plone.org//NONSGML plone.app.event//EN
X-WR-TIMEZONE:America/New_York
BEGIN:VEVENT
SUMMARY:Spergel Lecture Series: The Alchemy of Stars
DTSTART;TZID=America/New_York:20260420T150000
DTEND;TZID=America/New_York:20260420T170000
DTSTAMP:20260421T235833Z
UID:82b7eb4b055b4dc0b5df2112c4eb2beb@172.16.140.7:8080
CATEGORIES:Lecture,ds
CONTACT:Dr. Timothy Paglione\, tpaglione@york.cuny.edu
CREATED:20260211T160544Z
DESCRIPTION:Medieval alchemists longed to turn lead into gold. In this tal
 k\, I will discuss how stars transform the elements through nuclear reacti
 ons\, focusing on the formation of the heavy elements such as lead\, tin\,
  silver\, platinum\, and\, yes\, gold.
LAST-MODIFIED:20260414T153200Z
LOCATION:AC-2D01
URL:https://www.york.cuny.edu/ia/spergel-lecture-series
END:VEVENT
BEGIN:VTIMEZONE
TZID:America/New_York
X-LIC-LOCATION:America/New_York
BEGIN:DAYLIGHT
DTSTART:20260308T030000
TZNAME:EDT
TZOFFSETFROM:-0500
TZOFFSETTO:-0400
END:DAYLIGHT
END:VTIMEZONE
END:VCALENDAR
