BEGIN:VCALENDAR
VERSION:2.0
PRODID:-//Plone.org//NONSGML plone.app.event//EN
X-WR-TIMEZONE:America/New_York
BEGIN:VEVENT
SUMMARY:CPR Training
DTSTART;TZID=America/New_York:20260320T090000
DTEND;TZID=America/New_York:20260320T160000
DTSTAMP:20260420T090247Z
UID:80badd6f85f84ab4b8b3557b1ef6b24e@172.16.140.7:8080
CATEGORIES:Student Affairs,ds,Health Services Center
CONTACT:Josue Thelusma\, 718-262-2049\, jthelusma1@york.cuny.edu\, https:/
 /yorkcuny.iad1.qualtrics.com/jfe/form/SV_eJ7X4czb9rpIByS
CREATED:20250328T160920Z
DESCRIPTION:Enhance your life-saving skills by attending our CPR Training 
 Session. This hands- on workshop will teach you the essentials techniques 
 of cardiopulmonary resuscitation (CPR) including chest compressions\, resc
 ue breaths\, and the use of an automated external defibrillator (AED). Lim
 ited Seats Are Available!
LAST-MODIFIED:20260309T234504Z
LOCATION:AC-1G06
URL:https://www.york.cuny.edu/health/cpr-training-april2025
END:VEVENT
BEGIN:VTIMEZONE
TZID:America/New_York
X-LIC-LOCATION:America/New_York
BEGIN:DAYLIGHT
DTSTART:20260308T030000
TZNAME:EDT
TZOFFSETFROM:-0500
TZOFFSETTO:-0400
END:DAYLIGHT
END:VTIMEZONE
END:VCALENDAR
