BEGIN:VCALENDAR
VERSION:2.0
PRODID:-//Plone.org//NONSGML plone.app.event//EN
X-WR-TIMEZONE:America/New_York
BEGIN:VEVENT
SUMMARY:The First 100 Days of the 47th Administration
DTSTART;TZID=America/New_York:20250424T120000
DTEND;TZID=America/New_York:20250424T140000
DTSTAMP:20260420T183610Z
UID:c4cad426e2b44fb6a0cb7a0db924f408@172.16.140.7:8080
CATEGORIES:ds,Health and Human Performance,Political Science
CONTACT:Claudia Calhoon\, ccalhoon@york.cuny.edu
CREATED:20250331T205156Z
DESCRIPTION:A panel on the policies of the new presidential administration
  and what they mean for Queens
LAST-MODIFIED:20250401T134743Z
LOCATION:AC-3D01
URL:https://www.york.cuny.edu/health-human-performance/the-first-100-days
END:VEVENT
BEGIN:VTIMEZONE
TZID:America/New_York
X-LIC-LOCATION:America/New_York
BEGIN:DAYLIGHT
DTSTART:20250309T030000
TZNAME:EDT
TZOFFSETFROM:-0500
TZOFFSETTO:-0400
END:DAYLIGHT
END:VTIMEZONE
END:VCALENDAR
