BEGIN:VCALENDAR
VERSION:2.0
PRODID:-//Plone.org//NONSGML plone.app.event//EN
X-WR-TIMEZONE:America/New_York
BEGIN:VEVENT
SUMMARY:Meet the Candidates: Public Health Faculty Presentations - Session
  4
DTSTART;TZID=America/New_York:20250507T090000
DTEND;TZID=America/New_York:20250507T100000
DTSTAMP:20260421T015315Z
UID:88c72c64d335402a9620ea496b953961@172.16.140.7:8080
CATEGORIES:ds,Health Promotion,Public Health,Health and Human Performance
CREATED:20250502T110725Z
DESCRIPTION:Join us for open-to-the-public presentations by candidates app
 lying for a tenure-track faculty position in Public Health. This is a grea
 t opportunity to engage with prospective faculty and learn more about thei
 r vision and expertise.
LAST-MODIFIED:20250502T163918Z
LOCATION:AC-2D01
URL:https://www.york.cuny.edu/health-human-performance/public-health-facul
 ty-presentations-session4
END:VEVENT
BEGIN:VTIMEZONE
TZID:America/New_York
X-LIC-LOCATION:America/New_York
BEGIN:DAYLIGHT
DTSTART:20250309T030000
TZNAME:EDT
TZOFFSETFROM:-0500
TZOFFSETTO:-0400
END:DAYLIGHT
END:VTIMEZONE
END:VCALENDAR
