BEGIN:VCALENDAR
VERSION:2.0
PRODID:-//Plone.org//NONSGML plone.app.event//EN
X-WR-TIMEZONE:America/New_York
BEGIN:VEVENT
SUMMARY:Transfer Student Resource Roundtable
DTSTART:20241023T160000Z
DTEND:20241023T170000Z
DTSTAMP:20260421T203301Z
UID:a1c7401411354ec3a8e26c0fa5412f62@172.16.140.7:8080
CATEGORIES:Student Affairs,ds
CONTACT:Shayla Pruitt\, (718) 262-5161\, Spruitt@york.cuny.edu
CREATED:20241015T203239Z
DESCRIPTION:Celebrate National Transfer Student Week! As a transfer studen
 t\, understanding what resources are available to you during your York Col
 lege experience is essential.  Join us in this informative session on top
 ics such as scholarships\, graduate school planning\, internships and the 
 registration process for next term.
LAST-MODIFIED:20250904T151752Z
LOCATION:AC-2D01
URL:https://www.york.cuny.edu/fye/transfer-student-resource-roundtable
END:VEVENT
END:VCALENDAR
