BEGIN:VCALENDAR
VERSION:2.0
PRODID:-//Plone.org//NONSGML plone.app.event//EN
X-WR-TIMEZONE:America/New_York
BEGIN:VEVENT
SUMMARY:Transfer Student Grab N' Go
DTSTART:20241023T170000Z
DTEND:20241023T180000Z
DTSTAMP:20260420T040552Z
UID:e6b8ea6a5383421c8e0d1621e99508af@172.16.140.7:8080
CATEGORIES:Student Affairs,ds
CONTACT:Shayla Pruitt\, (718) 262-5161\, Spruitt@york.cuny.edu
CREATED:20241015T203530Z
DESCRIPTION:Celebrate National Transfer Student Week! In recognition of Yo
 rk College's wonderful transfer student population\, we are offering Grab 
 N' Go box lunches for transfer students.  Supply is limited\, so be sure 
 to rsvp now!
LAST-MODIFIED:20250904T151752Z
LOCATION:AC-2D01
URL:https://www.york.cuny.edu/fye/transfer-student-grab-n-go
END:VEVENT
END:VCALENDAR
