BEGIN:VCALENDAR
VERSION:2.0
PRODID:-//Plone.org//NONSGML plone.app.event//EN
X-WR-TIMEZONE:America/New_York
BEGIN:VEVENT
SUMMARY:The Nursing Program Experience - Part 2
DTSTART;TZID=America/New_York:20250408T120000
DTEND;TZID=America/New_York:20250408T140000
DTSTAMP:20260422T025525Z
UID:e5ded5f0969643cfb69fef6ff875f7b2@172.16.140.7:8080
CATEGORIES:Student Affairs,ds,Student Success Sessions
CONTACT:Shayla Pruitt\, (718) 262-5161\, Spruitt@york.cuny.edu
CREATED:20250130T172705Z
DESCRIPTION:Learn about the expectations and real-life experiences of bein
 g a continuing student in the program.  Lunch will be served.
LAST-MODIFIED:20250904T151752Z
LOCATION:SC-133
URL:https://www.york.cuny.edu/fye/the-nursing-program-experience-part-2
END:VEVENT
BEGIN:VTIMEZONE
TZID:America/New_York
X-LIC-LOCATION:America/New_York
BEGIN:DAYLIGHT
DTSTART:20250309T030000
TZNAME:EDT
TZOFFSETFROM:-0500
TZOFFSETTO:-0400
END:DAYLIGHT
END:VTIMEZONE
END:VCALENDAR
