BEGIN:VCALENDAR
VERSION:2.0
PRODID:-//Plone.org//NONSGML plone.app.event//EN
X-WR-TIMEZONE:America/New_York
BEGIN:VEVENT
SUMMARY:Professional Development Photo
DTSTART:20241024T183000Z
DTEND:20241024T193000Z
DTSTAMP:20260426T004015Z
UID:8c885060039e49c2872362f9aed79c6c@172.16.140.7:8080
CATEGORIES:Student Affairs,ds
CONTACT:Shayla Pruitt\, (718) 262-5161\, Spruitt@york.cuny.edu
CREATED:20241015T203904Z
DESCRIPTION:Celebrate National Transfer Student Week! Jazz up your profess
 ional social media profiles with a new free headshot.  A photo can assist
  with personal branding\, confidence-building and self-expression.  Be su
 re to dress in professional attire.  Photos are taken on a first come\, f
 irst served basis.
LAST-MODIFIED:20250904T151752Z
LOCATION:AC-1G06
URL:https://www.york.cuny.edu/fye/professional-development-photo
END:VEVENT
END:VCALENDAR
