BEGIN:VCALENDAR
VERSION:2.0
PRODID:-//Plone.org//NONSGML plone.app.event//EN
X-WR-TIMEZONE:America/New_York
BEGIN:VEVENT
SUMMARY:Aviation Simulation
DTSTART;TZID=America/New_York:20250320T120000
DTEND;TZID=America/New_York:20250320T130000
DTSTAMP:20260423T165902Z
UID:1f90d36c069b45e6a4131cc7c14be644@172.16.140.7:8080
CATEGORIES:Student Affairs,ds,Student Success Sessions
CONTACT:Shayla Pruitt\, (718) 262-5161\, Spruitt@york.cuny.edu
CREATED:20250130T172207Z
DESCRIPTION:In this very interactive session\, students will experience ho
 w it feels to pilot a plane through the college's flight simulator and lea
 rn about the college's aviation program. Space is limited to 20 students.
LAST-MODIFIED:20250904T151752Z
LOCATION:AC-2B07/2B08
URL:https://www.york.cuny.edu/fye/aviation-simulation
END:VEVENT
BEGIN:VTIMEZONE
TZID:America/New_York
X-LIC-LOCATION:America/New_York
BEGIN:DAYLIGHT
DTSTART:20250309T030000
TZNAME:EDT
TZOFFSETFROM:-0500
TZOFFSETTO:-0400
END:DAYLIGHT
END:VTIMEZONE
END:VCALENDAR
