BEGIN:VCALENDAR
VERSION:2.0
PRODID:-//Plone.org//NONSGML plone.app.event//EN
X-WR-TIMEZONE:America/New_York
BEGIN:VEVENT
SUMMARY:Artificial Intelligence:  What Students Should Know
DTSTART;TZID=America/New_York:20250325T120000
DTEND;TZID=America/New_York:20250325T130000
DTSTAMP:20260424T022259Z
UID:8850e75b444e4af8aab1aea979cfe26c@172.16.140.7:8080
CATEGORIES:Student Affairs,ds,Student Success Sessions
CONTACT:Shayla Pruitt\, (718) 262-5161\, Spruitt@york.cuny.edu
CREATED:20250307T151337Z
DESCRIPTION:Are you confused by all the talk about artificial intelligence
 ? Have you been told that AI is the way of the future...but that using it 
 for your classes is unethical and even cheating? Do you want to learn smar
 t and ethical ways that you can use AI as a student? This workshop will he
 lp you understand how you can use AI to help you learn and study\, and als
 o the times when using it won't help\, and what to use instead. 
LAST-MODIFIED:20250904T151752Z
LOCATION:AC-3G09 (Library)
URL:https://www.york.cuny.edu/fye/artificial-intelligence-what-students-sh
 ould-know
END:VEVENT
BEGIN:VTIMEZONE
TZID:America/New_York
X-LIC-LOCATION:America/New_York
BEGIN:DAYLIGHT
DTSTART:20250309T030000
TZNAME:EDT
TZOFFSETFROM:-0500
TZOFFSETTO:-0400
END:DAYLIGHT
END:VTIMEZONE
END:VCALENDAR
