BEGIN:VCALENDAR
VERSION:2.0
PRODID:-//Plone.org//NONSGML plone.app.event//EN
X-WR-TIMEZONE:America/New_York
BEGIN:VEVENT
SUMMARY:FWS - First Day of Work - Spring 2025
DTSTART:20250125T140000Z
DTEND:20250126T000000Z
DTSTAMP:20260421T042844Z
UID:cf1259f2d975481aaddcffee80c65971@172.16.140.7:8080
CATEGORIES:Federal Aid,Financial Aid
CREATED:20241218T192050Z
DESCRIPTION:You must have hours remaining in order to work in Spring 25
LAST-MODIFIED:20241218T212213Z
URL:https://www.york.cuny.edu/financial-aid/fws-first-day-of-work-spring-2
 025
END:VEVENT
END:VCALENDAR
