BEGIN:VCALENDAR
VERSION:2.0
PRODID:-//Plone.org//NONSGML plone.app.event//EN
X-WR-TIMEZONE:America/New_York
BEGIN:VEVENT
SUMMARY:Virtual One Stop to Register Hub (Mondays)
DTSTART:20240422T190000Z
DTEND:20240422T220000Z
DTSTAMP:20260426T002113Z
UID:bdacbbf2f060467da88f5ebd3a1d8eb4@172.16.140.7:8080
RRULE:FREQ=DAILY;UNTIL=20240826T220000Z;INTERVAL=7;WKST=MO
EXDATE:20240527T190000Z
CATEGORIES:ds,Express Enrollment Days
CONTACT:https://us02web.zoom.us/j/82195187138?pwd=dDQrR0NNRXBpQ0Y3YnhyZ3NQ
 a1A2dz09
CREATED:20240415T193916Z
DESCRIPTION:Register for classes virtually and get all your enrollment que
 stions answered in one place!
LAST-MODIFIED:20240419T165442Z
LOCATION:Online/Virtual
URL:https://www.york.cuny.edu/express-enrollment-days/virtual-one-stop
END:VEVENT
END:VCALENDAR
