BEGIN:VCALENDAR
VERSION:2.0
PRODID:-//Plone.org//NONSGML plone.app.event//EN
X-WR-TIMEZONE:America/New_York
BEGIN:VEVENT
SUMMARY:Express Enrollment Day- Afternoon Session
DTSTART;TZID=US/Eastern:20230824T150000
DTEND;TZID=US/Eastern:20230824T170000
DTSTAMP:20260421T000301Z
UID:4e499f585c114b6dba940edbe5fda7d8@172.16.140.7:8080
CATEGORIES:Express Enrollment Days,Student Affairs
CONTACT:Welcome Center\, 718-262-2708\, welcomecenter@york.cuny.edu
CREATED:20230727T230000Z
DESCRIPTION:Express Enrollment Days are designed for new and continuing st
 udents who want to enroll in classes for the fall 2023 semester. Represent
 atives from enrollment-related offices and student affairs will be availab
 le to provide one-on-one assistance.
LAST-MODIFIED:20240416T143802Z
LOCATION:Academic Core Building\, First Floor/ Well
URL:https://www.york.cuny.edu/express-enrollment-days/copy_of_express-enro
 llment-day-afternoon-session
END:VEVENT
BEGIN:VTIMEZONE
TZID:US/Eastern
X-LIC-LOCATION:US/Eastern
BEGIN:DAYLIGHT
DTSTART:20230312T030000
TZNAME:EDT
TZOFFSETFROM:-0500
TZOFFSETTO:-0400
END:DAYLIGHT
END:VTIMEZONE
END:VCALENDAR
