BEGIN:VCALENDAR
VERSION:2.0
PRODID:-//Plone.org//NONSGML plone.app.event//EN
X-WR-TIMEZONE:America/New_York
BEGIN:VEVENT
SUMMARY:SEEK’s Graduation Celebration
DTSTART;TZID=America/New_York:20260512T160000
DTEND;TZID=America/New_York:20260512T180000
DTSTAMP:20260422T093918Z
UID:618c236e5b7847a680965d17d39348d1@172.16.140.7:8080
CATEGORIES:SEEK,2026,Commencement,Lecture/Presentation,Community
CONTACT:Hopeton Allen\, 718-262-2314
CREATED:20260413T145402Z
DESCRIPTION:The Percy E. Sutton SEEK Program of York College invites you t
 o a Graduation Celebration.
LAST-MODIFIED:20260414T154259Z
LOCATION:AC-3H Atrium
URL:https://www.york.cuny.edu/events/seeks-graduation-celebration
END:VEVENT
BEGIN:VTIMEZONE
TZID:America/New_York
X-LIC-LOCATION:America/New_York
BEGIN:DAYLIGHT
DTSTART:20260308T030000
TZNAME:EDT
TZOFFSETFROM:-0500
TZOFFSETTO:-0400
END:DAYLIGHT
END:VTIMEZONE
END:VCALENDAR
