BEGIN:VCALENDAR
VERSION:2.0
PRODID:-//Plone.org//NONSGML plone.app.event//EN
X-WR-TIMEZONE:America/New_York
BEGIN:VEVENT
SUMMARY:Political Science Open House
DTSTART;TZID=America/New_York:20260210T120000
DTEND;TZID=America/New_York:20260210T140000
DTSTAMP:20260421T000515Z
UID:c81f07c0cd5b4c279062dc1932b06d89@172.16.140.7:8080
CATEGORIES:Political Science,ds
CONTACT:Dr. Robin Harper\, rharper@york.cuny.edu
CREATED:20260209T162120Z
DESCRIPTION:Explore the Political Science Major and Minor and the Pre-Law 
 and Criminal Justice Minors!
LAST-MODIFIED:20260209T162134Z
LOCATION:AC 4D06 – Conference Room
URL:https://www.york.cuny.edu/events/political-science-open-house
END:VEVENT
BEGIN:VTIMEZONE
TZID:America/New_York
X-LIC-LOCATION:America/New_York
BEGIN:STANDARD
DTSTART:20251102T010000
TZNAME:EST
TZOFFSETFROM:-0400
TZOFFSETTO:-0500
END:STANDARD
END:VTIMEZONE
END:VCALENDAR
