BEGIN:VCALENDAR
VERSION:2.0
PRODID:-//Plone.org//NONSGML plone.app.event//EN
X-WR-TIMEZONE:America/New_York
BEGIN:VEVENT
SUMMARY:OYB: Self-Management
DTSTART;TZID=America/New_York:20260311T170000
DTEND;TZID=America/New_York:20260311T180000
DTSTAMP:20260424T013525Z
UID:faf678ae3f964d4ebbc067b2528b26c4@172.16.140.7:8080
CATEGORIES:Men's Center,Mens Center,One York Brotherhood,ds
CONTACT:Roosevelt Smith\, 718-262-3772\, rsmith15@york.cuny.edu\, https://
 york-cuny.campus.eab.com/events/OYB311
CREATED:20260225T200806Z
DESCRIPTION:Self-management is the ability to regulate your emotions\, tho
 ughts\, and behaviors—managing stress\, staying motivated\, and working 
 toward goals. This session will cover strategies for building discipline\,
  maintaining focus\, and managing emotions to help you thrive academically
 \, personally\, and professionally.\n
LAST-MODIFIED:20260302T151836Z
LOCATION:AC-2D01
URL:https://www.york.cuny.edu/events/oyb-self-management
END:VEVENT
BEGIN:VTIMEZONE
TZID:America/New_York
X-LIC-LOCATION:America/New_York
BEGIN:DAYLIGHT
DTSTART:20260308T030000
TZNAME:EDT
TZOFFSETFROM:-0500
TZOFFSETTO:-0400
END:DAYLIGHT
END:VTIMEZONE
END:VCALENDAR
