BEGIN:VCALENDAR
VERSION:2.0
PRODID:-//Plone.org//NONSGML plone.app.event//EN
X-WR-TIMEZONE:America/New_York
BEGIN:VEVENT
SUMMARY:Making Your Content ADA Compliant!
DTSTART;TZID=America/New_York:20260415T120000
DTEND;TZID=America/New_York:20260415T130000
DTSTAMP:20260422T183203Z
UID:37355e0902f54bb191958f9d555bc38c@172.16.140.7:8080
CREATED:20260409T165822Z
DESCRIPTION:Learn how to ensure your documents and web content meet the ne
 w ADA compliance standards.
LAST-MODIFIED:20260409T170235Z
LOCATION:AC-3H14
URL:https://www.york.cuny.edu/events/making-your-content-ada-compliant
END:VEVENT
BEGIN:VTIMEZONE
TZID:America/New_York
X-LIC-LOCATION:America/New_York
BEGIN:DAYLIGHT
DTSTART:20260308T030000
TZNAME:EDT
TZOFFSETFROM:-0500
TZOFFSETTO:-0400
END:DAYLIGHT
END:VTIMEZONE
END:VCALENDAR
