BEGIN:VCALENDAR
VERSION:2.0
PRODID:-//Plone.org//NONSGML plone.app.event//EN
X-WR-TIMEZONE:America/New_York
BEGIN:VEVENT
SUMMARY:ASAP/ACE Celebration
DTSTART;TZID=America/New_York:20260507T170000
DTEND;TZID=America/New_York:20260507T203000
DTSTAMP:20260422T093918Z
UID:00851c9d321d4ddfaed0466464d7ad16@172.16.140.7:8080
CATEGORIES:ACE,2026,Commencement,Lecture/Presentation,Community
CONTACT:Yvette Simmons\, 718-262-2041
CREATED:20260413T144716Z
DESCRIPTION:The CUNY Accelerated Study in Associate Programs (ASAP) and Ac
 celerate\, Complete\, Engage Departments invite you to a Celebration.
LAST-MODIFIED:20260414T153307Z
LOCATION:AC-3H Atrium
URL:https://www.york.cuny.edu/events/asap-ace-celebration
END:VEVENT
BEGIN:VTIMEZONE
TZID:America/New_York
X-LIC-LOCATION:America/New_York
BEGIN:DAYLIGHT
DTSTART:20260308T030000
TZNAME:EDT
TZOFFSETFROM:-0500
TZOFFSETTO:-0400
END:DAYLIGHT
END:VTIMEZONE
END:VCALENDAR
