BEGIN:VCALENDAR
VERSION:2.0
PRODID:-//Plone.org//NONSGML plone.app.event//EN
X-WR-TIMEZONE:America/New_York
BEGIN:VEVENT
SUMMARY:Spring Symposium
DTSTART;TZID=America/New_York:20260421T120000
DTEND;TZID=America/New_York:20260421T140000
DTSTAMP:20260421T234333Z
UID:6b2fdc7b318940ada996faccea55280c@172.16.140.7:8080
CATEGORIES:Campus Wide,Academic Affairs
CREATED:20250822T190445Z
LAST-MODIFIED:20260310T164140Z
URL:https://www.york.cuny.edu/events/2026/spring-symposium
END:VEVENT
BEGIN:VTIMEZONE
TZID:America/New_York
X-LIC-LOCATION:America/New_York
BEGIN:DAYLIGHT
DTSTART:20260308T030000
TZNAME:EDT
TZOFFSETFROM:-0500
TZOFFSETTO:-0400
END:DAYLIGHT
END:VTIMEZONE
END:VCALENDAR
