BEGIN:VCALENDAR
VERSION:2.0
PRODID:-//Plone.org//NONSGML plone.app.event//EN
X-WR-TIMEZONE:America/New_York
BEGIN:VEVENT
SUMMARY:2026 Spring Senior Portrait Week
DTSTART;TZID=America/New_York:20260324T100000
DTEND;TZID=America/New_York:20260324T190000
DTSTAMP:20260420T011746Z
UID:62ef79cdb1144e8f84c0258050b88437@172.16.140.7:8080
RRULE:FREQ=DAILY;COUNT=4;INTERVAL=1
CATEGORIES:ds,Commencement,2026
CONTACT:Dr. Walton\, 718-262-2286\, rwalton@york.cuny.edu
CREATED:20260129T153557Z
DESCRIPTION:Professional Cap and Gown Portraits by Appointment
LAST-MODIFIED:20260129T165839Z
LOCATION:Cafeteria
URL:https://www.york.cuny.edu/events/2026/spring-senior-portrait-week
END:VEVENT
BEGIN:VTIMEZONE
TZID:America/New_York
X-LIC-LOCATION:America/New_York
BEGIN:DAYLIGHT
DTSTART:20260308T030000
TZNAME:EDT
TZOFFSETFROM:-0500
TZOFFSETTO:-0400
END:DAYLIGHT
END:VTIMEZONE
END:VCALENDAR
