BEGIN:VCALENDAR
VERSION:2.0
PRODID:-//Plone.org//NONSGML plone.app.event//EN
X-WR-TIMEZONE:America/New_York
BEGIN:VEVENT
SUMMARY:Softball vs. Yeshiva University
DTSTART;TZID=America/New_York:20260305T130000
DTEND;TZID=America/New_York:20260305T170000
DTSTAMP:20260421T005838Z
UID:6acbc92de02d4bcbb117776cead0a651@172.16.140.7:8080
CATEGORIES:Athletics Digital Signage,employee,Athletics,ds,employee featur
 ed,student
CONTACT:York Athletics\, yorkathletics@york.cuny.edu\, https://yorkathleti
 cs.com/calendar
CREATED:20210911T030733Z
DESCRIPTION:York College Cardinals open the 2026 Softball season at home a
 gainst the Yeshiva University Maccabees in a non-conference doubleheader. 
  Show up\, get loud\, and help the Cardinals own their field!
LAST-MODIFIED:20260213T043145Z
LOCATION:Padavan-Preller Fields - 236-02 Hillside Ave.\, Bellerose\, NY 11
 426
URL:https://www.york.cuny.edu/events/2026/softball-vs-yeshiva-03052026
END:VEVENT
BEGIN:VTIMEZONE
TZID:America/New_York
X-LIC-LOCATION:America/New_York
BEGIN:STANDARD
DTSTART:20251102T010000
TZNAME:EST
TZOFFSETFROM:-0400
TZOFFSETTO:-0500
END:STANDARD
END:VTIMEZONE
END:VCALENDAR
