BEGIN:VCALENDAR
VERSION:2.0
PRODID:-//Plone.org//NONSGML plone.app.event//EN
X-WR-TIMEZONE:America/New_York
BEGIN:VEVENT
SUMMARY:Resources for Resolution
DTSTART;TZID=America/New_York:20260210T130000
DTEND;TZID=America/New_York:20260210T140000
DTSTAMP:20260421T203301Z
UID:f3cfb4a12020467c846ea92e2c5b8304@172.16.140.7:8080
CATEGORIES:Student Success Sessions,ds
CONTACT:Shayla Pruitt\, (718) 262-5161\, Spruitt@york.cuny.edu
CREATED:20260203T205308Z
DESCRIPTION:Knowing how to address challenges beforehand can save a lot of
  time and frustration.  In this workshop\, students will learn how to acc
 ess York resources\, and troubleshoot regarding appeals\, financial hards
 hip\, complaints and student behavior protocols.
LAST-MODIFIED:20260209T140951Z
LOCATION:SC-131
URL:https://www.york.cuny.edu/events/2026/resources-for-resolution
END:VEVENT
BEGIN:VTIMEZONE
TZID:America/New_York
X-LIC-LOCATION:America/New_York
BEGIN:STANDARD
DTSTART:20251102T010000
TZNAME:EST
TZOFFSETFROM:-0400
TZOFFSETTO:-0500
END:STANDARD
END:VTIMEZONE
END:VCALENDAR
