BEGIN:VCALENDAR
VERSION:2.0
PRODID:-//Plone.org//NONSGML plone.app.event//EN
X-WR-TIMEZONE:America/New_York
BEGIN:VEVENT
SUMMARY:Reference Sources - An Underappreciated Resource
DTSTART;TZID=America/New_York:20260226T130000
DTEND;TZID=America/New_York:20260226T140000
DTSTAMP:20260423T164528Z
UID:82403ab687e44bbf97c30811f7f3ea03@172.16.140.7:8080
CATEGORIES:Student Success Sessions
CONTACT:Shayla Pruitt\, (718) 262-5161\, Spruitt@york.cuny.edu
CREATED:20260122T151210Z
DESCRIPTION:Struggling with peer-reviewed articles? Learn how to start wit
 h high-quality background research using online reference sources\, even i
 f you are off-campus. Students who complete this 1-hour workshop will be 1
 /3 of the way to earning the FYE Information Literacy digital badge. 
LAST-MODIFIED:20260209T140946Z
LOCATION:AC-3G09 (Library)
URL:https://www.york.cuny.edu/events/2026/reference-sources-an-underapprec
 iated-resource
END:VEVENT
BEGIN:VTIMEZONE
TZID:America/New_York
X-LIC-LOCATION:America/New_York
BEGIN:STANDARD
DTSTART:20251102T010000
TZNAME:EST
TZOFFSETFROM:-0400
TZOFFSETTO:-0500
END:STANDARD
END:VTIMEZONE
END:VCALENDAR
