BEGIN:VCALENDAR
VERSION:2.0
PRODID:-//Plone.org//NONSGML plone.app.event//EN
X-WR-TIMEZONE:America/New_York
BEGIN:VEVENT
SUMMARY:WTO/99: Film Screening + Q&A
DTSTART;TZID=America/New_York:20260304T120000
DTEND;TZID=America/New_York:20260304T143000
DTSTAMP:20260421T124207Z
UID:f612f30f18e3413bb73091b7f021b521@172.16.140.7:8080
CATEGORIES:Communications Technology program,Department of Fine and Perfor
 ming Arts,ds,Lecture/Presentation
CONTACT:Prof Caroline Voagen Nelson\, cnelson5@pratt.edu
CREATED:20260127T213709Z
DESCRIPTION:The Communications Technology Program is pleased to host a scr
 eening and Q&A for the award-winning documentary: WTO/99. Gaining strong a
 ttention on this year’s festival circuit\, the film revisits the 1999 Wo
 rld Trade Organization protests in Seattle through an extraordinary collec
 tion of archival footage
LAST-MODIFIED:20260209T140948Z
LOCATION:AC-3D01
URL:https://www.york.cuny.edu/events/2026/doc-film-screening-q-a-wto-99
END:VEVENT
BEGIN:VTIMEZONE
TZID:America/New_York
X-LIC-LOCATION:America/New_York
BEGIN:STANDARD
DTSTART:20251102T010000
TZNAME:EST
TZOFFSETFROM:-0400
TZOFFSETTO:-0500
END:STANDARD
END:VTIMEZONE
END:VCALENDAR
