BEGIN:VCALENDAR
VERSION:2.0
PRODID:-//Plone.org//NONSGML plone.app.event//EN
X-WR-TIMEZONE:America/New_York
BEGIN:VEVENT
SUMMARY:Dean's List
DTSTART;TZID=America/New_York:20260324T160000
DTEND;TZID=America/New_York:20260324T180000
DTSTAMP:20260422T183150Z
UID:e1344dba6167412eb4d762a8ab8242e1@172.16.140.7:8080
CATEGORIES:Campus Wide,Academic Affairs,ds
CONTACT:Saleema Moore\, smoore8@york.cuny.edu
CREATED:20250822T185850Z
DESCRIPTION:The Dean’s List Reception is a special celebration honoring 
 students who have achieved academic excellence during the 2025 Fall and Sp
 ring semesters. This event recognizes the dedication\, hard work\, and com
 mitment demonstrated by our Dean’s List recipients.
LAST-MODIFIED:20260318T145016Z
URL:https://www.york.cuny.edu/events/2026/deans-list
END:VEVENT
BEGIN:VTIMEZONE
TZID:America/New_York
X-LIC-LOCATION:America/New_York
BEGIN:DAYLIGHT
DTSTART:20260308T030000
TZNAME:EDT
TZOFFSETFROM:-0500
TZOFFSETTO:-0400
END:DAYLIGHT
END:VTIMEZONE
END:VCALENDAR
