BEGIN:VCALENDAR
VERSION:2.0
PRODID:-//Plone.org//NONSGML plone.app.event//EN
X-WR-TIMEZONE:America/New_York
BEGIN:VEVENT
SUMMARY:Database Searching - Finding Peer-Reviewed Articles
DTSTART;TZID=America/New_York:20260326T130000
DTEND;TZID=America/New_York:20260326T140000
DTSTAMP:20260419T083148Z
UID:f8861f7b995e41b3ad46c5528f6bfde4@172.16.140.7:8080
CATEGORIES:Student Success Sessions,First-Year Experience (FYE)
CONTACT:Shayla Pruitt\, (718) 262-5161\, Spruitt@york.cuny.edu
CREATED:20260122T152641Z
DESCRIPTION:Are you ready to level up your search skills? Are you on your 
 way to mastering OneSearch? Learn which databases are the best for differe
 nt subjects so that you can find peer-reviewed articles quickly and easily
 . Students who complete this 1-hour workshop will be 1/3 of the way to ear
 ning the FYE Information Literacy digital badge. 
LAST-MODIFIED:20260209T140947Z
LOCATION:AC-3G09 (Library)
URL:https://www.york.cuny.edu/events/2026/database-searching-finding-peer-
 reviewed-articles
END:VEVENT
BEGIN:VTIMEZONE
TZID:America/New_York
X-LIC-LOCATION:America/New_York
BEGIN:DAYLIGHT
DTSTART:20260308T030000
TZNAME:EDT
TZOFFSETFROM:-0500
TZOFFSETTO:-0400
END:DAYLIGHT
END:VTIMEZONE
END:VCALENDAR
