BEGIN:VCALENDAR
VERSION:2.0
PRODID:-//Plone.org//NONSGML plone.app.event//EN
X-WR-TIMEZONE:America/New_York
BEGIN:VEVENT
SUMMARY:Archival Research - What's in an Archive?
DTSTART;TZID=America/New_York:20260430T130000
DTEND;TZID=America/New_York:20260430T140000
DTSTAMP:20260421T142539Z
UID:a4c7b4057cb4484e8ab29e8d29df73bd@172.16.140.7:8080
CATEGORIES:Student Success Sessions,First-Year Experience (FYE)
CONTACT:Shayla Pruitt\, (718) 262-5161\, Spruitt@york.cuny.edu
CREATED:20260122T153056Z
DESCRIPTION:Archives are special libraries that contain primary sources th
 at are of particular importance to the history of a library\, college\, an
 d the communities they serve. Come learn more about this fascinating type 
 of research and why it is important. Freshmen and new transfer students wh
 o complete this 1-hour workshop will be 1/3 of the way to earning the FYE 
 Information Literacy digital badge. 
LAST-MODIFIED:20260209T140947Z
LOCATION:AC-3G09 (Library)
URL:https://www.york.cuny.edu/events/2026/archival-research-whats-in-an-ar
 chive
END:VEVENT
BEGIN:VTIMEZONE
TZID:America/New_York
X-LIC-LOCATION:America/New_York
BEGIN:DAYLIGHT
DTSTART:20260308T030000
TZNAME:EDT
TZOFFSETFROM:-0500
TZOFFSETTO:-0400
END:DAYLIGHT
END:VTIMEZONE
END:VCALENDAR
