BEGIN:VCALENDAR
VERSION:2.0
PRODID:-//Plone.org//NONSGML plone.app.event//EN
X-WR-TIMEZONE:America/New_York
BEGIN:VEVENT
SUMMARY:YEmmys
DTSTART;VALUE=DATE:20260430
DTEND;VALUE=DATE:20260501
DTSTAMP:20260422T183151Z
UID:4f2f2f1be8054e9dbbfe89fc21ad70b0@172.16.140.7:8080
CATEGORIES:Academic Affairs
CREATED:20250822T191620Z
LAST-MODIFIED:20250822T191626Z
URL:https://www.york.cuny.edu/events/2025/yemmys
END:VEVENT
END:VCALENDAR
