BEGIN:VCALENDAR
VERSION:2.0
PRODID:-//Plone.org//NONSGML plone.app.event//EN
X-WR-TIMEZONE:America/New_York
BEGIN:VEVENT
SUMMARY:Women’s Volleyball vs. Maritime College
DTSTART;TZID=America/New_York:20250925T180000
DTEND;TZID=America/New_York:20250925T200000
DTSTAMP:20260421T164717Z
UID:298e068fbe134d828faeb72a23eeff57@172.16.140.7:8080
CATEGORIES:Athletics Digital Signage,employee,Athletics,ds,employee featur
 ed,student
CONTACT:York Athletics\, yorkathletics@york.cuny.edu\, https://yorkathleti
 cs.com/calendar
CREATED:20210911T030733Z
DESCRIPTION:The York College Cardinals are ready to take on the Maritime C
 ollege Privateers in a Women’s Volleyball non-conference showdown—righ
 t here at home! Don’t miss your chance to catch all the action as our te
 am looks to make a statement on their home court!
LAST-MODIFIED:20251014T202239Z
LOCATION:York College Gymnasium
URL:https://www.york.cuny.edu/events/2025/womens-volleyball-vs-maritime-09
 252025
END:VEVENT
BEGIN:VTIMEZONE
TZID:America/New_York
X-LIC-LOCATION:America/New_York
BEGIN:DAYLIGHT
DTSTART:20250309T030000
TZNAME:EDT
TZOFFSETFROM:-0500
TZOFFSETTO:-0400
END:DAYLIGHT
END:VTIMEZONE
END:VCALENDAR
