BEGIN:VCALENDAR
VERSION:2.0
PRODID:-//Plone.org//NONSGML plone.app.event//EN
X-WR-TIMEZONE:America/New_York
BEGIN:VEVENT
SUMMARY:Women’s Basketball vs. Brooklyn College
DTSTART;TZID=America/New_York:20260121T170000
DTEND;TZID=America/New_York:20260121T190000
DTSTAMP:20260421T142523Z
UID:a19d6bb28ca14a479066bf37c5b87945@172.16.140.7:8080
CATEGORIES:Athletics Digital Signage,employee,Athletics,ds,employee featur
 ed,student
CONTACT:York Athletics\, yorkathletics@york.cuny.edu\, https://yorkathleti
 cs.com/calendar
CREATED:20210911T030733Z
DESCRIPTION:York College Cardinals take the floor against the Brooklyn Col
 lege Bulldogs—let’s make our home court roar! Bring the energy. Be a p
 art of it.
LAST-MODIFIED:20260107T210842Z
LOCATION:York College Gymnasium
URL:https://www.york.cuny.edu/events/2025/womens-basketball-vs-brooklyn-01
 212026
END:VEVENT
BEGIN:VTIMEZONE
TZID:America/New_York
X-LIC-LOCATION:America/New_York
BEGIN:STANDARD
DTSTART:20251102T010000
TZNAME:EST
TZOFFSETFROM:-0400
TZOFFSETTO:-0500
END:STANDARD
END:VTIMEZONE
END:VCALENDAR
