BEGIN:VCALENDAR
VERSION:2.0
PRODID:-//Plone.org//NONSGML plone.app.event//EN
X-WR-TIMEZONE:America/New_York
BEGIN:VEVENT
SUMMARY:Wellness Wednesday - September
DTSTART;TZID=America/New_York:20250917T140000
DTEND;TZID=America/New_York:20250917T150000
DTSTAMP:20260420T143108Z
UID:6fac884b06fa42cf94724a57449d4120@172.16.140.7:8080
CATEGORIES:Student Affairs,Counseling Center,ds,Student Activities
CONTACT:Counseling Center\, 718-262-2272\, counseling@york.cuny.edu
CREATED:20250916T160825Z
DESCRIPTION:Take a midweek breather with Wellness Wednesdays! Join the Yor
 k College Counseling Center for “Stress Management & Relaxation Techniqu
 es: Find the Right One for You” 
LAST-MODIFIED:20260112T161631Z
LOCATION:AC-2M05
URL:https://www.york.cuny.edu/events/2025/wellness-wednesday-september
END:VEVENT
BEGIN:VTIMEZONE
TZID:America/New_York
X-LIC-LOCATION:America/New_York
BEGIN:DAYLIGHT
DTSTART:20250309T030000
TZNAME:EDT
TZOFFSETFROM:-0500
TZOFFSETTO:-0400
END:DAYLIGHT
END:VTIMEZONE
END:VCALENDAR
