BEGIN:VCALENDAR
VERSION:2.0
PRODID:-//Plone.org//NONSGML plone.app.event//EN
X-WR-TIMEZONE:America/New_York
BEGIN:VEVENT
SUMMARY:Wellness Wednesday November 12
DTSTART;TZID=America/New_York:20251112T140000
DTEND;TZID=America/New_York:20251112T150000
DTSTAMP:20260421T032821Z
UID:4464fd6cbc90438c9be681752ca207ad@172.16.140.7:8080
CATEGORIES:Student Affairs,Counseling Center,ds,Student Activities
CONTACT:Counseling Center\, 718-262-2272\, counseling@york.cuny.edu
CREATED:20250916T162124Z
DESCRIPTION:Take a midweek breather with Wellness Wednesdays! Join the Yor
 k College Counseling Center for “Mindfulness: Find Your OM!”
LAST-MODIFIED:20260112T161632Z
LOCATION:AC-2M05
URL:https://www.york.cuny.edu/events/2025/wellness-wednesday-november-12
END:VEVENT
BEGIN:VTIMEZONE
TZID:America/New_York
X-LIC-LOCATION:America/New_York
BEGIN:STANDARD
DTSTART:20251102T010000
TZNAME:EST
TZOFFSETFROM:-0400
TZOFFSETTO:-0500
END:STANDARD
END:VTIMEZONE
END:VCALENDAR
