BEGIN:VCALENDAR
VERSION:2.0
PRODID:-//Plone.org//NONSGML plone.app.event//EN
X-WR-TIMEZONE:America/New_York
BEGIN:VEVENT
SUMMARY:Unlocking Your Potential in The Health Sciences
DTSTART;TZID=America/New_York:20250915T120000
DTEND;TZID=America/New_York:20250915T133000
DTSTAMP:20260421T032824Z
UID:53b0094c7207415fa965fb7978bf413d@172.16.140.7:8080
CATEGORIES:ds,Student Success Sessions
CONTACT:Shayla Pruitt\, (718) 262-5161\, Spruitt@york.cuny.edu
CREATED:20250915T161743Z
DESCRIPTION:Undergraduate students majoring in health science have a wide 
 array of rewarding career paths related to the healthcare field.  
LAST-MODIFIED:20260112T161630Z
LOCATION:AC-2M04
URL:https://www.york.cuny.edu/events/2025/unlocking-your-potential-in-the-
 health-sciences
END:VEVENT
BEGIN:VTIMEZONE
TZID:America/New_York
X-LIC-LOCATION:America/New_York
BEGIN:DAYLIGHT
DTSTART:20250309T030000
TZNAME:EDT
TZOFFSETFROM:-0500
TZOFFSETTO:-0400
END:DAYLIGHT
END:VTIMEZONE
END:VCALENDAR
