BEGIN:VCALENDAR
VERSION:2.0
PRODID:-//Plone.org//NONSGML plone.app.event//EN
X-WR-TIMEZONE:America/New_York
BEGIN:VEVENT
SUMMARY:Transfer Student Resource Roundtable
DTSTART;TZID=America/New_York:20251022T120000
DTEND;TZID=America/New_York:20251022T140000
DTSTAMP:20260423T060137Z
UID:8b922a2c82754d19a24c060404d13a75@172.16.140.7:8080
CATEGORIES:ds,National Transfer Student Week
CONTACT:Shayla Pruitt\, (718) 262-5161\, Spruitt@york.cuny.edu
CREATED:20250916T203642Z
DESCRIPTION:As a transfer student\, understanding what resources are avail
 able to you during your York College experience is essential.  Join us in 
 this informative session on topics such as graduate school planning\, inte
 rnships\, the registration process and more.
LAST-MODIFIED:20260112T161633Z
LOCATION:AC-2D01 (Faculty Dining Room)
URL:https://www.york.cuny.edu/events/2025/transfer-student-resource-roundt
 able
END:VEVENT
BEGIN:VTIMEZONE
TZID:America/New_York
X-LIC-LOCATION:America/New_York
BEGIN:DAYLIGHT
DTSTART:20250309T030000
TZNAME:EDT
TZOFFSETFROM:-0500
TZOFFSETTO:-0400
END:DAYLIGHT
END:VTIMEZONE
END:VCALENDAR
