BEGIN:VCALENDAR
VERSION:2.0
PRODID:-//Plone.org//NONSGML plone.app.event//EN
X-WR-TIMEZONE:America/New_York
BEGIN:VEVENT
SUMMARY:Thanksgiving Dinner
DTSTART;VALUE=DATE:20251125
DTEND;VALUE=DATE:20251126
DTSTAMP:20260420T015351Z
UID:bf747bd6d0fa406b856a39dc993a6791@172.16.140.7:8080
CATEGORIES:Student Activities
CREATED:20250822T195528Z
LAST-MODIFIED:20251023T042203Z
LOCATION:Atrium
URL:https://www.york.cuny.edu/events/2025/thanksgiving-dinner
END:VEVENT
END:VCALENDAR
