BEGIN:VCALENDAR
VERSION:2.0
PRODID:-//Plone.org//NONSGML plone.app.event//EN
X-WR-TIMEZONE:America/New_York
BEGIN:VEVENT
SUMMARY:Preparing and Supporting Immigrant Students
DTSTART;TZID=America/New_York:20250116T180000
DTEND;TZID=America/New_York:20250116T190000
DTSTAMP:20260425T152041Z
UID:6f6cedb758b849f59b63192b3dafe981@172.16.140.7:8080
CATEGORIES:ds
CONTACT:https://us02web.zoom.us/meeting/register/cZD4uGERSgi6UrWGoR0QUg#/r
 egistration
CREATED:20250115T175035Z
DESCRIPTION:What's Next: Supporting Immigrant and Undocumented Students at
  CUNY
LAST-MODIFIED:20250115T180908Z
LOCATION:Zoom
URL:https://www.york.cuny.edu/events/2025/preparing-and-supporting-immigra
 nt-students
END:VEVENT
BEGIN:VTIMEZONE
TZID:America/New_York
X-LIC-LOCATION:America/New_York
BEGIN:STANDARD
DTSTART:20241103T010000
TZNAME:EST
TZOFFSETFROM:-0400
TZOFFSETTO:-0500
END:STANDARD
END:VTIMEZONE
END:VCALENDAR
