BEGIN:VCALENDAR
VERSION:2.0
PRODID:-//Plone.org//NONSGML plone.app.event//EN
X-WR-TIMEZONE:America/New_York
BEGIN:VEVENT
SUMMARY:Nursing Information Session
DTSTART;TZID=America/New_York:20260317T130000
DTEND;TZID=America/New_York:20260317T140000
DTSTAMP:20260419T175115Z
UID:e22b1c4b967a4ef0b7fd50251db2039e@172.16.140.7:8080
CATEGORIES:Nursing,ds,Admitted Student Events
CONTACT:Professor Peal\, https://us02web.zoom.us/webinar/register/WN_CETqZ
 nnhSbqh130cD0y1dQ
CREATED:20250912T210953Z
LAST-MODIFIED:20260303T171736Z
URL:https://www.york.cuny.edu/events/2025/nursing-information-session-6
END:VEVENT
BEGIN:VTIMEZONE
TZID:America/New_York
X-LIC-LOCATION:America/New_York
BEGIN:DAYLIGHT
DTSTART:20260308T030000
TZNAME:EDT
TZOFFSETFROM:-0500
TZOFFSETTO:-0400
END:DAYLIGHT
END:VTIMEZONE
END:VCALENDAR
