BEGIN:VCALENDAR
VERSION:2.0
PRODID:-//Plone.org//NONSGML plone.app.event//EN
X-WR-TIMEZONE:America/New_York
BEGIN:VEVENT
SUMMARY:Nursing Information Session
DTSTART;TZID=America/New_York:20251113T130000
DTEND;TZID=America/New_York:20251113T140000
DTSTAMP:20260419T104908Z
UID:99cf793e4ffd40b4977a225f7e69e5d6@172.16.140.7:8080
CATEGORIES:Nursing,ds
CONTACT:Dr. Kubanick\, https://us02web.zoom.us/webinar/register/WN_d7A4Yh0
 VSCq_4UXEnPSsUg
CREATED:20250912T205732Z
LAST-MODIFIED:20250912T211834Z
URL:https://www.york.cuny.edu/events/2025/nursing-information-session-2
END:VEVENT
BEGIN:VTIMEZONE
TZID:America/New_York
X-LIC-LOCATION:America/New_York
BEGIN:STANDARD
DTSTART:20251102T010000
TZNAME:EST
TZOFFSETFROM:-0400
TZOFFSETTO:-0500
END:STANDARD
END:VTIMEZONE
END:VCALENDAR
