BEGIN:VCALENDAR
VERSION:2.0
PRODID:-//Plone.org//NONSGML plone.app.event//EN
X-WR-TIMEZONE:America/New_York
BEGIN:VEVENT
SUMMARY:Normal Violence
DTSTART;TZID=America/New_York:20250429T150000
DTEND;TZID=America/New_York:20250429T170000
DTSTAMP:20260424T035846Z
UID:2dbdde1c3aaa4ce49d7ca9c4d7dd4bf5@172.16.140.7:8080
CATEGORIES:ds
CONTACT:https://www.eventbrite.com/e/1314247512689?aff=oddtdtcreator
CREATED:20250422T202448Z
DESCRIPTION:Join us for Normal Violence\, a powerful and thought-provoking
  event that challenges the normalization of sexual violence in our society
 .
LAST-MODIFIED:20250422T202506Z
LOCATION:365 Fifth Ave NY\, NY 10016 Room: 9th Floor Suite (9205/9206/9207
 )
URL:https://www.york.cuny.edu/events/2025/normal-violence
END:VEVENT
BEGIN:VTIMEZONE
TZID:America/New_York
X-LIC-LOCATION:America/New_York
BEGIN:DAYLIGHT
DTSTART:20250309T030000
TZNAME:EDT
TZOFFSETFROM:-0500
TZOFFSETTO:-0400
END:DAYLIGHT
END:VTIMEZONE
END:VCALENDAR
