BEGIN:VCALENDAR
VERSION:2.0
PRODID:-//Plone.org//NONSGML plone.app.event//EN
X-WR-TIMEZONE:America/New_York
BEGIN:VEVENT
SUMMARY:Men’s Soccer vs. Lehman College
DTSTART;TZID=America/New_York:20251001T120000
DTEND;TZID=America/New_York:20251001T140000
DTSTAMP:20260421T143424Z
UID:33b9c395e7ed4fab91a2ade1cee6e72a@172.16.140.7:8080
CATEGORIES:Athletics Digital Signage,employee,Athletics,ds,employee featur
 ed,student
CONTACT:York Athletics\, yorkathletics@york.cuny.edu\, https://yorkathleti
 cs.com/calendar
CREATED:20210911T030733Z
DESCRIPTION:It’s a Men’s Soccer CUNYAC clash as the York College Cardi
 nals go head-to-head with the Lehman College Lightning! The Cardinals are 
 ready to defend home turf — be there when it all goes down.
LAST-MODIFIED:20251014T202239Z
LOCATION:York College Outdoor Athletic Complex
URL:https://www.york.cuny.edu/events/2025/mens-soccer-vs-lehman-10012025
END:VEVENT
BEGIN:VTIMEZONE
TZID:America/New_York
X-LIC-LOCATION:America/New_York
BEGIN:DAYLIGHT
DTSTART:20250309T030000
TZNAME:EDT
TZOFFSETFROM:-0500
TZOFFSETTO:-0400
END:DAYLIGHT
END:VTIMEZONE
END:VCALENDAR
