BEGIN:VCALENDAR
VERSION:2.0
PRODID:-//Plone.org//NONSGML plone.app.event//EN
X-WR-TIMEZONE:America/New_York
BEGIN:VEVENT
SUMMARY:Men’s Soccer vs. Baruch College
DTSTART;TZID=America/New_York:20251008T150000
DTEND;TZID=America/New_York:20251008T170000
DTSTAMP:20260421T124207Z
UID:7ba13a0013f849eaba6bd7b8597b2b03@172.16.140.7:8080
CATEGORIES:Athletics Digital Signage,employee,Athletics,ds,employee featur
 ed,student
CONTACT:York Athletics\, yorkathletics@york.cuny.edu\, https://yorkathleti
 cs.com/calendar
CREATED:20210911T030733Z
DESCRIPTION:The York College Cardinals take the pitch for a high-stakes sh
 owdown against the Baruch College Bearcats in a Men’s Soccer clash you d
 on’t want to miss! Every minute brings the energy\, grit\, and pride of 
 CUNYAC competition — be there when it all goes down.
LAST-MODIFIED:20251014T202236Z
LOCATION:York College Outdoor Athletic Complex
URL:https://www.york.cuny.edu/events/2025/mens-soccer-vs-baruch-10082025
END:VEVENT
BEGIN:VTIMEZONE
TZID:America/New_York
X-LIC-LOCATION:America/New_York
BEGIN:DAYLIGHT
DTSTART:20250309T030000
TZNAME:EDT
TZOFFSETFROM:-0500
TZOFFSETTO:-0400
END:DAYLIGHT
END:VTIMEZONE
END:VCALENDAR
