BEGIN:VCALENDAR
VERSION:2.0
PRODID:-//Plone.org//NONSGML plone.app.event//EN
X-WR-TIMEZONE:America/New_York
BEGIN:VEVENT
SUMMARY:Men’s Basketball vs. Pratt Institute
DTSTART;TZID=America/New_York:20251213T120000
DTEND;TZID=America/New_York:20251213T140000
DTSTAMP:20260421T153237Z
UID:7c4756fbeeef4cd6bc334db798ab15ff@172.16.140.7:8080
CATEGORIES:Athletics Digital Signage,employee,Athletics,ds,employee featur
 ed,student
CONTACT:York Athletics\, yorkathletics@york.cuny.edu\, https://yorkathleti
 cs.com/calendar
CREATED:20210911T030733Z
DESCRIPTION:It’s home-court time as the York College Cardinals take on t
 he Pratt Institute Cannoneers in a non-conference Men’s Basketball match
 up! Cardinals at home. You in?
LAST-MODIFIED:20251127T164852Z
LOCATION:York College Gymnasium
URL:https://www.york.cuny.edu/events/2025/mens-basketball-vs-pratt-1213202
 5
END:VEVENT
BEGIN:VTIMEZONE
TZID:America/New_York
X-LIC-LOCATION:America/New_York
BEGIN:STANDARD
DTSTART:20251102T010000
TZNAME:EST
TZOFFSETFROM:-0400
TZOFFSETTO:-0500
END:STANDARD
END:VTIMEZONE
END:VCALENDAR
