BEGIN:VCALENDAR
VERSION:2.0
PRODID:-//Plone.org//NONSGML plone.app.event//EN
X-WR-TIMEZONE:America/New_York
BEGIN:VEVENT
SUMMARY:GenEd Symposium
DTSTART;TZID=America/New_York:20251016T120000
DTEND;TZID=America/New_York:20251016T130000
DTSTAMP:20260420T002246Z
UID:e15264d6c9d045d98bf33b6bb4fd3e86@172.16.140.7:8080
CATEGORIES:Campus Wide
CREATED:20250822T183245Z
LAST-MODIFIED:20250822T183258Z
URL:https://www.york.cuny.edu/events/2025/gened-symposium
END:VEVENT
BEGIN:VTIMEZONE
TZID:America/New_York
X-LIC-LOCATION:America/New_York
BEGIN:DAYLIGHT
DTSTART:20250309T030000
TZNAME:EDT
TZOFFSETFROM:-0500
TZOFFSETTO:-0400
END:DAYLIGHT
END:VTIMEZONE
END:VCALENDAR
