BEGIN:VCALENDAR
VERSION:2.0
PRODID:-//Plone.org//NONSGML plone.app.event//EN
X-WR-TIMEZONE:America/New_York
BEGIN:VEVENT
SUMMARY:Form Uniqueness on Graphs
DTSTART;TZID=America/New_York:20250318T121500
DTEND;TZID=America/New_York:20250318T131500
DTSTAMP:20260425T183325Z
UID:011ed7918ca84bb78bdc65241b042392@172.16.140.7:8080
CATEGORIES:ds,Mathematics and Computer Science
CONTACT:Dr. Lidia Gonzalez\, 718-262-2551\, lgonzalez@york.cuny.edu
CREATED:20250228T175338Z
DESCRIPTION:Introducing the problem of form uniqueness on general weighted
  graphs.
LAST-MODIFIED:20260112T162949Z
LOCATION:AC-2C07c
URL:https://www.york.cuny.edu/events/2025/form-uniqueness-on-graphs
END:VEVENT
BEGIN:VTIMEZONE
TZID:America/New_York
X-LIC-LOCATION:America/New_York
BEGIN:DAYLIGHT
DTSTART:20250309T030000
TZNAME:EDT
TZOFFSETFROM:-0500
TZOFFSETTO:-0400
END:DAYLIGHT
END:VTIMEZONE
END:VCALENDAR
