BEGIN:VCALENDAR
VERSION:2.0
PRODID:-//Plone.org//NONSGML plone.app.event//EN
X-WR-TIMEZONE:America/New_York
BEGIN:VEVENT
SUMMARY:First-Gen Foundations:  How to Academically Succeed with Tutoring
DTSTART;TZID=America/New_York:20251112T110000
DTEND;TZID=America/New_York:20251112T120000
DTSTAMP:20260421T112456Z
UID:46dab4a03b2741178a74df0a4b3fc62b@172.16.140.7:8080
CATEGORIES:Student Success Sessions,ds,Student Affairs
CONTACT:Shayla Pruitt\, (718) 262-5161\, Spruitt@york.cuny.edu
CREATED:20251107T164059Z
DESCRIPTION:Now that mid-terms are over\, will you be ready for finals?  
 Don't wait to get academic support!  Join us as the tutors and staff from
  the Collaborative Learning Center discuss preparation strategies\, what s
 tudents should expect\, remote resources like Tutor.com and how to get the
  most out of your sessions.
LAST-MODIFIED:20260112T161530Z
LOCATION:AC-1C18
URL:https://www.york.cuny.edu/events/2025/first-gen-foundations-how-to-aca
 demically-succeed-with-tutoring-1
END:VEVENT
BEGIN:VTIMEZONE
TZID:America/New_York
X-LIC-LOCATION:America/New_York
BEGIN:STANDARD
DTSTART:20251102T010000
TZNAME:EST
TZOFFSETFROM:-0400
TZOFFSETTO:-0500
END:STANDARD
END:VTIMEZONE
END:VCALENDAR
