BEGIN:VCALENDAR
VERSION:2.0
PRODID:-//Plone.org//NONSGML plone.app.event//EN
X-WR-TIMEZONE:America/New_York
BEGIN:VEVENT
SUMMARY:Financial Literacy Series #1
DTSTART;TZID=America/New_York:20250220T160000
DTEND;TZID=America/New_York:20250220T180000
DTSTAMP:20260421T044508Z
UID:cfb39b5734c2406c90b9dd4557c29d6f@172.16.140.7:8080
CATEGORIES:SEEK,ds
CONTACT:Joseph Wilson II\, jwilson12@york.cuny.edu
CREATED:20250210T212324Z
DESCRIPTION:Join us for our Spring Financial Literacy Series! Attend this 
 event and learn How to Start a Business! 
LAST-MODIFIED:20260112T162946Z
LOCATION:AC-1M06
URL:https://www.york.cuny.edu/events/2025/financial-literacy-series-1
END:VEVENT
BEGIN:VTIMEZONE
TZID:America/New_York
X-LIC-LOCATION:America/New_York
BEGIN:STANDARD
DTSTART:20241103T010000
TZNAME:EST
TZOFFSETFROM:-0400
TZOFFSETTO:-0500
END:STANDARD
END:VTIMEZONE
END:VCALENDAR
