BEGIN:VCALENDAR
VERSION:2.0
PRODID:-//Plone.org//NONSGML plone.app.event//EN
X-WR-TIMEZONE:America/New_York
BEGIN:VEVENT
SUMMARY:Faculty Caucus - 11/11/2025
DTSTART;TZID=America/New_York:20251111T121000
DTEND;TZID=America/New_York:20251111T134500
DTSTAMP:20260425T183307Z
UID:0c15bd8cc0e547aeb185d9b023672007@172.16.140.7:8080
CATEGORIES:Faculty Caucus,Committees
CONTACT:Scott Sheidlower
CREATED:20251025T145648Z
DESCRIPTION:A meeting for faculty members to discuss academic policies\, d
 epartmental updates\, and strategic initiatives.
LAST-MODIFIED:20260112T161526Z
LOCATION:AC-4D01
URL:https://www.york.cuny.edu/events/2025/faculty-caucus
END:VEVENT
BEGIN:VTIMEZONE
TZID:America/New_York
X-LIC-LOCATION:America/New_York
BEGIN:STANDARD
DTSTART:20251102T010000
TZNAME:EST
TZOFFSETFROM:-0400
TZOFFSETTO:-0500
END:STANDARD
END:VTIMEZONE
END:VCALENDAR
