BEGIN:VCALENDAR
VERSION:2.0
PRODID:-//Plone.org//NONSGML plone.app.event//EN
X-WR-TIMEZONE:America/New_York
BEGIN:VEVENT
SUMMARY:Experience New York Fashion Week Show
DTSTART;TZID=America/New_York:20250916T120000
DTEND;TZID=America/New_York:20250916T140000
DTSTAMP:20260421T182053Z
UID:1f10d2f339c244fcb5019b72820edcbe@172.16.140.7:8080
CATEGORIES:ds,Student Activities
CONTACT:Rachael Walton\, 718-262-2286\, rwalton@york.cuny.edu
CREATED:20250902T143809Z
DESCRIPTION:Join us for an unforgettable time of fashion\, flair\, and Car
 dinal pride as we host our Experience New York Fashion Week Show spotlight
 ing the creative vision of Jeffrey Ampratwum\, a celebrated stylist and pr
 oud graduate of York College!
LAST-MODIFIED:20260112T161629Z
LOCATION:Academic Core Atrium
URL:https://www.york.cuny.edu/events/2025/experience-new-york-fashion-week
 -show
END:VEVENT
BEGIN:VTIMEZONE
TZID:America/New_York
X-LIC-LOCATION:America/New_York
BEGIN:DAYLIGHT
DTSTART:20250309T030000
TZNAME:EDT
TZOFFSETFROM:-0500
TZOFFSETTO:-0400
END:DAYLIGHT
END:VTIMEZONE
END:VCALENDAR
