BEGIN:VCALENDAR
VERSION:2.0
PRODID:-//Plone.org//NONSGML plone.app.event//EN
X-WR-TIMEZONE:America/New_York
BEGIN:VEVENT
SUMMARY:Environmental Justice in Urban Communities
DTSTART;TZID=America/New_York:20250506T120000
DTEND;TZID=America/New_York:20250506T140000
DTSTAMP:20260421T095420Z
UID:2342e9ebdf994051bb473b22d116b821@172.16.140.7:8080
CATEGORIES:ds,Teacher Education
CONTACT:Dr. Lindamichelle Baron\, LBaron@york.cuny.edu\, https://forms.off
 ice.com/r/YFzbvSVbpT
CREATED:20250417T145752Z
DESCRIPTION:Teaching Climate Justice and Environmental Advocacy in Urban S
 chools
LAST-MODIFIED:20260112T161725Z
LOCATION:AC-3B04
URL:https://www.york.cuny.edu/events/2025/environmental-justice-in-urban-c
 ommunities
END:VEVENT
BEGIN:VTIMEZONE
TZID:America/New_York
X-LIC-LOCATION:America/New_York
BEGIN:DAYLIGHT
DTSTART:20250309T030000
TZNAME:EDT
TZOFFSETFROM:-0500
TZOFFSETTO:-0400
END:DAYLIGHT
END:VTIMEZONE
END:VCALENDAR
